BEGIN:VCALENDAR
VERSION:2.0
PRODID:-//True North Awakening - ECPv6.15.20//NONSGML v1.0//EN
CALSCALE:GREGORIAN
METHOD:PUBLISH
X-WR-CALNAME:True North Awakening
X-ORIGINAL-URL:https://truenorthawakening.com
X-WR-CALDESC:Events for True North Awakening
REFRESH-INTERVAL;VALUE=DURATION:PT1H
X-Robots-Tag:noindex
X-PUBLISHED-TTL:PT1H
BEGIN:VTIMEZONE
TZID:America/Boise
BEGIN:DAYLIGHT
TZOFFSETFROM:-0700
TZOFFSETTO:-0600
TZNAME:MDT
DTSTART:20240310T090000
END:DAYLIGHT
BEGIN:STANDARD
TZOFFSETFROM:-0600
TZOFFSETTO:-0700
TZNAME:MST
DTSTART:20241103T080000
END:STANDARD
BEGIN:DAYLIGHT
TZOFFSETFROM:-0700
TZOFFSETTO:-0600
TZNAME:MDT
DTSTART:20250309T090000
END:DAYLIGHT
BEGIN:STANDARD
TZOFFSETFROM:-0600
TZOFFSETTO:-0700
TZNAME:MST
DTSTART:20251102T080000
END:STANDARD
BEGIN:DAYLIGHT
TZOFFSETFROM:-0700
TZOFFSETTO:-0600
TZNAME:MDT
DTSTART:20260308T090000
END:DAYLIGHT
BEGIN:STANDARD
TZOFFSETFROM:-0600
TZOFFSETTO:-0700
TZNAME:MST
DTSTART:20261101T080000
END:STANDARD
END:VTIMEZONE
BEGIN:VEVENT
DTSTART;TZID=America/Boise:20251015T170000
DTEND;TZID=America/Boise:20251015T200000
DTSTAMP:20260424T165237
CREATED:20250929T220330Z
LAST-MODIFIED:20250930T180924Z
UID:10002368-1760547600-1760558400@truenorthawakening.com
SUMMARY:Doulagivers Level 1 End of Life Doula & Caregiver - In-Person Training
DESCRIPTION:FREE Doulagivers Level I End of Life Doula & Family Caregiver Training \nIn Person \nHosted by: Doulagivers of Idaho & Pacific Northwest \nOctober 15th 5:00pm – 8:00pm MST \nWelcome to the award-winning Doulagivers Level 1 End of Life Doula and caregiver Training! \nSign up for this FREE event and learn directly from the Founder & Creator of Doulagivers Institute\, Suzanne B. O’Brien RN\, on how to care for someone through all three phases of end of life. \nThis training is part of our global outreach initiative to teach everyone in the world the basic skills of how to care for someone who is dying. \nIn this FREE training\, you will learn how to care for someone who is dying from the time of a terminal diagnosis all the way through until the end-of-life. \nThis is a skill that is all but lost in our modern day society and it is causing this natural and inevitable part of life to be a thousand times harder than it needs to be for many. \nYou will learn the 3 Phases of End of Life Model of Care that we teach in our professional certification programs at Doulagivers Institute\, as well as interventions to provide comfort and support to both patients and their families in each phase. \nSign Up Here for this FREE Event!
URL:https://truenorthawakening.com/event/level-1-end-of-life-doula-caregiver-training/
LOCATION:Meridian Senior Center\, 1920 North Records Way\, Meridian\, ID\, 83646\, United States
CATEGORIES:Class,Event
ATTACH;FMTTYPE=image/png:https://truenorthawakening.com/wp-content/uploads/2025/09/Doulagivers_Live_Event_.png
ORGANIZER;CN="Doulagivers of Idaho and Pacific Northwest":MAILTO:Doulagiversofidahopnw@gmail.com
END:VEVENT
END:VCALENDAR