BEGIN:VCALENDAR
VERSION:2.0
PRODID:-//True North Awakening - ECPv6.15.20//NONSGML v1.0//EN
CALSCALE:GREGORIAN
METHOD:PUBLISH
X-WR-CALNAME:True North Awakening
X-ORIGINAL-URL:https://truenorthawakening.com
X-WR-CALDESC:Events for True North Awakening
REFRESH-INTERVAL;VALUE=DURATION:PT1H
X-Robots-Tag:noindex
X-PUBLISHED-TTL:PT1H
BEGIN:VTIMEZONE
TZID:America/Boise
BEGIN:DAYLIGHT
TZOFFSETFROM:-0700
TZOFFSETTO:-0600
TZNAME:MDT
DTSTART:20240310T090000
END:DAYLIGHT
BEGIN:STANDARD
TZOFFSETFROM:-0600
TZOFFSETTO:-0700
TZNAME:MST
DTSTART:20241103T080000
END:STANDARD
BEGIN:DAYLIGHT
TZOFFSETFROM:-0700
TZOFFSETTO:-0600
TZNAME:MDT
DTSTART:20250309T090000
END:DAYLIGHT
BEGIN:STANDARD
TZOFFSETFROM:-0600
TZOFFSETTO:-0700
TZNAME:MST
DTSTART:20251102T080000
END:STANDARD
BEGIN:DAYLIGHT
TZOFFSETFROM:-0700
TZOFFSETTO:-0600
TZNAME:MDT
DTSTART:20260308T090000
END:DAYLIGHT
BEGIN:STANDARD
TZOFFSETFROM:-0600
TZOFFSETTO:-0700
TZNAME:MST
DTSTART:20261101T080000
END:STANDARD
BEGIN:DAYLIGHT
TZOFFSETFROM:-0700
TZOFFSETTO:-0600
TZNAME:MDT
DTSTART:20270314T090000
END:DAYLIGHT
BEGIN:STANDARD
TZOFFSETFROM:-0600
TZOFFSETTO:-0700
TZNAME:MST
DTSTART:20271107T080000
END:STANDARD
END:VTIMEZONE
BEGIN:VEVENT
DTSTART;TZID=America/Boise:20260314T090000
DTEND;TZID=America/Boise:20260315T170000
DTSTAMP:20260424T125013
CREATED:20251222T001811Z
LAST-MODIFIED:20251222T002357Z
UID:10002371-1773478800-1773594000@truenorthawakening.com
SUMMARY:Usui/Holy Fire® III Reiki I & II - In Person Training
DESCRIPTION:Instructor\nChristine Soza \nHosted by: True North Awakening \nMarch 14th & 15th\, 2026 (Saturday & Sunday) \n9:0oam-5:00pm MST \nThis class includes Holy Fire® III Reiki \nThis training is one of the most thorough and comprehensive available. It includes both Reiki I & II and is a combination of the Western style as introduced by Mrs. Takata\, the Japanese Reiki Techniques\, and the Holy Fire® healing energy. On completion of the class\, you will be able to give Reiki treatments to yourself and others. The following subjects are taught: \n\nThe origin and history of Reiki\nThe nature of Reiki energy\, why people get sick and how Reiki is used in healing.\nThe Reiki Ideals\nThe Human Energy System\nThe complete hand placement system\nGassho meditation\nByosen Scanning: Using the sensitivity in the hands to locate areas needing healing\, (usually in the aura) and to treat those areas.\nReiji-Ho: Using inner guidance to know how and where to treat.\nKenyoku: Dry bathing\, a method to purify your energy field.\nGyoshi-ho: Sending Reiki with the eyes.\nSending Reiki at a distance\nReiki II symbols: How to draw\, activate and use them. Their many uses are explained\, and their inner meaning is discussed. Practice time is given so students know from experience how the energy of each symbols feels and the results each symbol produces.\nPlacements/Attunements for Reiki I & II are given during this class.\n\nThe class is a combination of lecture\, discussion\, demonstration\, and practice time. Each student experiences giving and receiving a complete treatment using Byosen scanning and the hand placement system. \nIn the process of learning to be a healer\, we’ll be practicing sending distance healing and receive healing as well. This is a wonderful class for the beginner and is also valuable for those who have already taken Reiki training. \nA comprehensive class manual and a certificate are included. \nOnline class: All class materials will be mailed prior to the start of class.  Registration will close one week prior to start of class to ensure that all of the class materials will arrive to you prior to the start of class. \nZoom link and additional information for class will be provided after registration is complete for online classes. \nLocation: \n6635 S Birch Creek Ave \nMeridian\, ID 83642
URL:https://truenorthawakening.com/event/usui-holy-fire-iii-reiki-i-ii-in-person-training-6/
LOCATION:Meeting Place\, 6635 S Birch Creek Ave\, Meridian\, ID\, 83642\, United States
CATEGORIES:Class
ATTACH;FMTTYPE=image/jpeg:https://truenorthawakening.com/wp-content/uploads/2024/03/Reiki.jpg
END:VEVENT
BEGIN:VEVENT
DTSTART;TZID=America/Boise:20251122T093000
DTEND;TZID=America/Boise:20251123T170000
DTSTAMP:20260424T125013
CREATED:20240402T221536Z
LAST-MODIFIED:20251030T222806Z
UID:10002358-1763803800-1763917200@truenorthawakening.com
SUMMARY:Usui/Holy Fire® III Reiki I & II - In Person Training
DESCRIPTION:Instructor\nChristine Soza \nHosted by: True North Awakening \nNovember 22nd & 23rd\, 2025 (Saturday & Sunday) \n9:30-5:00pm MST \nThis class includes Holy Fire® III Reiki \nThis training is one of the most thorough and comprehensive available. It includes both Reiki I & II and is a combination of the Western style as introduced by Mrs. Takata\, the Japanese Reiki Techniques\, and the Holy Fire® healing energy. On completion of the class\, you will be able to give Reiki treatments to yourself and others. The following subjects are taught: \n\nThe origin and history of Reiki\nThe nature of Reiki energy\, why people get sick and how Reiki is used in healing.\nThe Reiki Ideals\nThe Human Energy System\nThe complete hand placement system\nGassho meditation\nByosen Scanning: Using the sensitivity in the hands to locate areas needing healing\, (usually in the aura) and to treat those areas.\nReiji-Ho: Using inner guidance to know how and where to treat.\nKenyoku: Dry bathing\, a method to purify your energy field.\nGyoshi-ho: Sending Reiki with the eyes.\nSending Reiki at a distance\nReiki II symbols: How to draw\, activate and use them. Their many uses are explained\, and their inner meaning is discussed. Practice time is given so students know from experience how the energy of each symbols feels and the results each symbol produces.\nPlacements/Attunements for Reiki I & II are given during this class.\n\nThe class is a combination of lecture\, discussion\, demonstration\, and practice time. Each student experiences giving and receiving a complete treatment using Byosen scanning and the hand placement system. \nIn the process of learning to be a healer\, we’ll be practicing sending distance healing and receive healing as well. This is a wonderful class for the beginner and is also valuable for those who have already taken Reiki training. \nA comprehensive class manual and a certificate are included. \nAll class materials will be mailed prior to the start of class.  Registration will close one week prior to start of class to ensure that all of the class materials will arrive to you prior to the start of class. \nZoom link and additional information for class will be provided after registration is complete for online classes. \nLocation: \n6635 S Birch Creek Ave\,\nMeridian\, ID 83642
URL:https://truenorthawakening.com/event/usui-holy-fire-iii-reiki-i-ii-in-person-training/
LOCATION:Meeting Place\, 6635 S Birch Creek Ave\, Meridian\, ID\, 83642\, United States
CATEGORIES:Class
ATTACH;FMTTYPE=image/jpeg:https://truenorthawakening.com/wp-content/uploads/2024/03/Reiki.jpg
END:VEVENT
BEGIN:VEVENT
DTSTART;TZID=America/Boise:20251101T093000
DTEND;TZID=America/Boise:20251102T170000
DTSTAMP:20260424T125013
CREATED:20240402T221826Z
LAST-MODIFIED:20250925T025914Z
UID:10002359-1761989400-1762102800@truenorthawakening.com
SUMMARY:Usui/Holy Fire® III Reiki I & II - In Person Training
DESCRIPTION:Instructor\nChristine Soza \nHosted by: True North Awakening \nNovember 1st & 2nd\, 2025 (Saturday & Sunday) \n9:30am-5:00pm MST \nThis class includes Holy Fire® III Reiki \nThis training is one of the most thorough and comprehensive available. It includes both Reiki I & II and is a combination of the Western style as introduced by Mrs. Takata\, the Japanese Reiki Techniques\, and the Holy Fire® healing energy. On completion of the class\, you will be able to give Reiki treatments to yourself and others. The following subjects are taught: \n\nThe origin and history of Reiki\nThe nature of Reiki energy\, why people get sick and how Reiki is used in healing.\nThe Reiki Ideals\nThe Human Energy System\nThe complete hand placement system\nGassho meditation\nByosen Scanning: Using the sensitivity in the hands to locate areas needing healing\, (usually in the aura) and to treat those areas.\nReiji-Ho: Using inner guidance to know how and where to treat.\nKenyoku: Dry bathing\, a method to purify your energy field.\nGyoshi-ho: Sending Reiki with the eyes.\nSending Reiki at a distance\nReiki II symbols: How to draw\, activate and use them. Their many uses are explained\, and their inner meaning is discussed. Practice time is given so students know from experience how the energy of each symbols feels and the results each symbol produces.\nPlacements/Attunements for Reiki I & II are given during this class.\n\nThe class is a combination of lecture\, discussion\, demonstration\, and practice time. Each student experiences giving and receiving a complete treatment using Byosen scanning and the hand placement system. \nIn the process of learning to be a healer\, we’ll be practicing sending distance healing and receive healing as well. This is a wonderful class for the beginner and is also valuable for those who have already taken Reiki training. \nA comprehensive class manual and a certificate are included. \nOnline class: All class materials will be mailed prior to the start of class.  Registration will close one week prior to start of class to ensure that all of the class materials will arrive to you prior to the start of class. \nZoom link and additional information for class will be provided after registration is complete for online classes. \nLocation: \n6635 S Birch Creek Ave \nMeridian\, ID 83642
URL:https://truenorthawakening.com/event/usui-holy-fire-iii-reiki-i-ii-in-person-training-2/
LOCATION:Meeting Place\, 6635 S Birch Creek Ave\, Meridian\, ID\, 83642\, United States
CATEGORIES:Class
ATTACH;FMTTYPE=image/jpeg:https://truenorthawakening.com/wp-content/uploads/2024/03/Reiki.jpg
END:VEVENT
BEGIN:VEVENT
DTSTART;TZID=America/Boise:20250823T090000
DTEND;TZID=America/Boise:20250824T163000
DTSTAMP:20260424T125013
CREATED:20240402T013433Z
LAST-MODIFIED:20250813T194802Z
UID:10002356-1755939600-1756053000@truenorthawakening.com
SUMMARY:Usui/Holy Fire® III Reiki I & II - In Person Training
DESCRIPTION:Instructor\nChristine Soza \nHosted by: True North Awakening \nAugust 23rd & 24th\, 2025 (Saturday & Sunday) \n9am-4:30pm MST \nThis class includes Holy Fire® III Reiki \nThis training is one of the most thorough and comprehensive available. It includes both Reiki I & II and is a combination of the Western style as introduced by Mrs. Takata\, the Japanese Reiki Techniques\, and the Holy Fire® healing energy. On completion of the class\, you will be able to give Reiki treatments to yourself and others. The following subjects are taught: \n\nThe origin and history of Reiki\nThe nature of Reiki energy\, why people get sick and how Reiki is used in healing.\nThe Reiki Ideals\nThe Human Energy System\nThe complete hand placement system\nGassho meditation\nByosen Scanning: Using the sensitivity in the hands to locate areas needing healing\, (usually in the aura) and to treat those areas.\nReiji-Ho: Using inner guidance to know how and where to treat.\nKenyoku: Dry bathing\, a method to purify your energy field.\nGyoshi-ho: Sending Reiki with the eyes.\nSending Reiki at a distance\nReiki II symbols: How to draw\, activate and use them. Their many uses are explained\, and their inner meaning is discussed. Practice time is given so students know from experience how the energy of each symbols feels and the results each symbol produces.\nPlacements/Attunements for Reiki I & II are given during this class.\n\nThe class is a combination of lecture\, discussion\, demonstration\, and practice time. Each student experiences giving and receiving a complete treatment using Byosen scanning and the hand placement system. \nIn the process of learning to be a healer\, we’ll be practicing sending distance healing and receive healing as well. This is a wonderful class for the beginner and is also valuable for those who have already taken Reiki training. \nA comprehensive class manual and a certificate are included. \nOnline classes: All class materials will be mailed prior to the start of class.  Registration will close one week prior to start of class to ensure that all of the class materials will arrive to you prior to the start of class. \nZoom link and additional information for class will be provided after registration is complete for online class. \n  \n 
URL:https://truenorthawakening.com/event/usui-holy-fire-iii-reiki-i-ii-online-training-2/
LOCATION:Meeting Place\, 6635 S Birch Creek Ave\, Meridian\, ID\, 83642\, United States
CATEGORIES:Class,Event
ATTACH;FMTTYPE=image/jpeg:https://truenorthawakening.com/wp-content/uploads/2024/03/Reiki.jpg
END:VEVENT
BEGIN:VEVENT
DTSTART;TZID=America/Boise:20250614T090000
DTEND;TZID=America/Boise:20250615T163000
DTSTAMP:20260424T125013
CREATED:20240402T223345Z
LAST-MODIFIED:20250504T232010Z
UID:10002360-1749891600-1750005000@truenorthawakening.com
SUMMARY:Usui/Holy Fire® III Reiki I & II - In Person Training
DESCRIPTION:Instructor\nChristine Soza \nHosted by: True North Awakening \nJune 14th & 15th\, 2025 \n9am-4:30 pm MST \nThis class includes Holy Fire® III Reiki \nThis training is one of the most thorough and comprehensive available. It includes both Reiki I & II and is a combination of the Western style as introduced by Mrs. Takata\, the Japanese Reiki Techniques\, and the Holy Fire® healing energy. On completion of the class\, you will be able to give Reiki treatments to yourself and others. The following subjects are taught: \n\nThe origin and history of Reiki\nThe nature of Reiki energy\, why people get sick and how Reiki is used in healing.\nThe Reiki Ideals\nThe Human Energy System\nThe complete hand placement system\nGassho meditation\nByosen Scanning: Using the sensitivity in the hands to locate areas needing healing\, (usually in the aura) and to treat those areas.\nReiji-Ho: Using inner guidance to know how and where to treat.\nKenyoku: Dry bathing\, a method to purify your energy field.\nGyoshi-ho: Sending Reiki with the eyes.\nSending Reiki at a distance\nReiki II symbols: How to draw\, activate and use them. Their many uses are explained\, and their inner meaning is discussed. Practice time is given so students know from experience how the energy of each symbols feels and the results each symbol produces.\nPlacements/Attunements for Reiki I & II are given during this class.\n\nThe class is a combination of lecture\, discussion\, demonstration\, and practice time. Each student experiences giving and receiving a complete treatment using Byosen scanning and the hand placement system. \nIn the process of learning to be a healer\, we’ll be practicing sending distance healing and receive healing as well. This is a wonderful class for the beginner and is also valuable for those who have already taken Reiki training. \nA comprehensive class manual and a certificate are included. \nOnline class: All class materials will be mailed prior to the start of class.  Registration will close one week prior to start of class to ensure that all of the class materials will arrive to you prior to the start of class. \nZoom link and additional information for class will be provided after registration is complete for Online class. \nLocation: \n6635 S Birch Creek Ave\,\nMeridian\, ID 83642
URL:https://truenorthawakening.com/event/usui-holy-fire-iii-reiki-i-ii-in-person-training-3/
LOCATION:Meeting Place\, 6635 S Birch Creek Ave\, Meridian\, ID\, 83642\, United States
CATEGORIES:Class
ATTACH;FMTTYPE=image/jpeg:https://truenorthawakening.com/wp-content/uploads/2024/03/Reiki.jpg
END:VEVENT
BEGIN:VEVENT
DTSTART;TZID=America/Boise:20250418T090000
DTEND;TZID=America/Boise:20250420T163000
DTSTAMP:20260424T125013
CREATED:20240320T043438Z
LAST-MODIFIED:20250203T031751Z
UID:10002355-1744966800-1745166600@truenorthawakening.com
SUMMARY:Holy Fire® III World Peace Reiki Master - In Person
DESCRIPTION:Instructor \nChristine Soza \nHosted by: True North Awakening \nLocation: 6635 S Birch Creek Ave  Meridian\, ID 83642 \nDates:  April 18-April 20\, 2025  (Friday-Sunday) \n9am-4:30pm \n  \nReiki master class description \nThe Master training combines the complete Usui/Holy Fire® III Master training into one 3-day class. \nPre-requisite: You must have been a Reiki II practitioner for a minimum of 6 months. \n  \nWorld Peace Reiki \nThis class makes use of World Peace Reiki energy which has all the qualities of the Holy Fire® III energy and includes a higher vibration that actively creates feelings of peace within each student. Also included in this class are the Empowered by the River of Peace Experience and the World Peace Ignition which establishes and strengthens the World Peace Reiki energy and empowers one to actively manifest peace in the world. This type of peace is similar to the peace Usui Sensei received on Mt. Kurama when he was given the gift of Reiki. The World Peace Ignition also empowers each student to teach the World Peace version of this class to others. \n  \nClass includes all of the following: \n-The Usui Master symbol which increases the effectiveness of the Reiki II symbols and can be  used for healing \n-The Empowered by the River of Peace Experience \n– The Usui/Holy Fire® III Master Placement (attunement) which increases the strength of your Reiki energy and empowers the Usui Master symbol \n– Practice using the Usui master symbol for treatments \n– The Holy Fire® symbol is given for a total of five symbols for the entire system. \n– Four Ignitions (attunements) including the World Peace Ignition \n– How to make a Reiki crystal grid that will continue to send Reiki to yourself and others after it is charged \n– Hands-on practice using the Holy Fire® symbol during Reiki sessions \n– Instruction on how to give Reiki Placements for Reiki I & II and how to conduct the Healing in the River of Peace Experience and the four Ignitions for Reiki Master including the World Peace Ignition \n– The Holy Fire® Healing Experience that can be given to anyone and directs the powerful Holy Fire® energies to heal – How to give yourself Experiences\, Placements\, and Ignitions \n– The values and spiritual orientation of a true Reiki Master. \n– How to teach including going over the class outlines as well as how to develop and promote your Reiki business \n  \nThe training includes a comprehensive class manual and class certificate. \nThe cost for Holy Fire® III Reiki® Master Training is $1375 with a $325 non-refundable deposit. \n  \n  \nPayment plans are available\, please contact Christine directly for payment plan options. \n  \nLocation: \n6635 S Birch Creek Ave\,\nMeridian\, ID 83642
URL:https://truenorthawakening.com/event/holy-fire-iii-world-peace-reiki-master/
LOCATION:Meeting Place\, 6635 S Birch Creek Ave\, Meridian\, ID\, 83642\, United States
CATEGORIES:Class
ATTACH;FMTTYPE=image/jpeg:https://truenorthawakening.com/wp-content/uploads/2024/03/Reiki.jpg
END:VEVENT
BEGIN:VEVENT
DTSTART;TZID=America/Boise:20250315T090000
DTEND;TZID=America/Boise:20250316T163000
DTSTAMP:20260424T125013
CREATED:20240402T224032Z
LAST-MODIFIED:20250203T024805Z
UID:10002361-1742029200-1742142600@truenorthawakening.com
SUMMARY:Usui/Holy Fire® III Reiki I & II - In Person Training
DESCRIPTION:Instructor\nChristine Soza \nHosted by: True North Awakening \nMarch 15th & 16th\, 2025 (Saturday & Sunday) \n9am-4:30pm MST \nThis class includes Holy Fire® III Reiki \nThis online training is one of the most thorough and comprehensive available. It includes both Reiki I & II and is a combination of the Western style as introduced by Mrs. Takata\, the Japanese Reiki Techniques\, and the Holy Fire® healing energy. On completion of the class\, you will be able to give Reiki treatments to yourself and others. The following subjects are taught: \n\nThe origin and history of Reiki\nThe nature of Reiki energy\, why people get sick and how Reiki is used in healing.\nThe Reiki Ideals\nThe Human Energy System\nThe complete hand placement system\nGassho meditation\nByosen Scanning: Using the sensitivity in the hands to locate areas needing healing\, (usually in the aura) and to treat those areas.\nReiji-Ho: Using inner guidance to know how and where to treat.\nKenyoku: Dry bathing\, a method to purify your energy field.\nGyoshi-ho: Sending Reiki with the eyes.\nSending Reiki at a distance\nReiki II symbols: How to draw\, activate and use them. Their many uses are explained\, and their inner meaning is discussed. Practice time is given so students know from experience how the energy of each symbols feels and the results each symbol produces.\nPlacements/Attunements for Reiki I & II are given during this class.\n\nThe class is a combination of lecture\, discussion\, demonstration\, and practice time. Each student experiences giving and receiving a complete treatment using Byosen scanning and the hand placement system. \nIn the process of learning to be a healer\, we’ll be practicing sending distance healing and receive healing as well. This is a wonderful class for the beginner and is also valuable for those who have already taken Reiki training. \nA comprehensive class manual and a certificate are included. \nOnline classes: All class materials will be mailed prior to the start of class.  Registration will close one week prior to start of class to ensure that all of the class materials will arrive to you prior to the start of class. \nZoom link and additional information for class will be provided after registration is complete. \nLocation: \n6635 S Birch Creek Ave\,\nMeridian\, ID 83642
URL:https://truenorthawakening.com/event/usui-holy-fire-iii-reiki-i-ii-in-person-training-4/
LOCATION:Meeting Place\, 6635 S Birch Creek Ave\, Meridian\, ID\, 83642\, United States
CATEGORIES:Class
ATTACH;FMTTYPE=image/jpeg:https://truenorthawakening.com/wp-content/uploads/2024/03/Reiki.jpg
END:VEVENT
END:VCALENDAR