BEGIN:VCALENDAR
VERSION:2.0
PRODID:-//True North Awakening - ECPv6.15.20//NONSGML v1.0//EN
CALSCALE:GREGORIAN
METHOD:PUBLISH
X-WR-CALNAME:True North Awakening
X-ORIGINAL-URL:https://truenorthawakening.com
X-WR-CALDESC:Events for True North Awakening
REFRESH-INTERVAL;VALUE=DURATION:PT1H
X-Robots-Tag:noindex
X-PUBLISHED-TTL:PT1H
BEGIN:VTIMEZONE
TZID:America/Boise
BEGIN:DAYLIGHT
TZOFFSETFROM:-0700
TZOFFSETTO:-0600
TZNAME:MDT
DTSTART:20240310T090000
END:DAYLIGHT
BEGIN:STANDARD
TZOFFSETFROM:-0600
TZOFFSETTO:-0700
TZNAME:MST
DTSTART:20241103T080000
END:STANDARD
BEGIN:DAYLIGHT
TZOFFSETFROM:-0700
TZOFFSETTO:-0600
TZNAME:MDT
DTSTART:20250309T090000
END:DAYLIGHT
BEGIN:STANDARD
TZOFFSETFROM:-0600
TZOFFSETTO:-0700
TZNAME:MST
DTSTART:20251102T080000
END:STANDARD
BEGIN:DAYLIGHT
TZOFFSETFROM:-0700
TZOFFSETTO:-0600
TZNAME:MDT
DTSTART:20260308T090000
END:DAYLIGHT
BEGIN:STANDARD
TZOFFSETFROM:-0600
TZOFFSETTO:-0700
TZNAME:MST
DTSTART:20261101T080000
END:STANDARD
END:VTIMEZONE
BEGIN:VEVENT
DTSTART;TZID=America/Boise:20251018T110000
DTEND;TZID=America/Boise:20251018T130000
DTSTAMP:20260424T185156
CREATED:20250930T182500Z
LAST-MODIFIED:20250930T183335Z
UID:10002370-1760785200-1760792400@truenorthawakening.com
SUMMARY:The Good Death Book Signing - In-Person Event
DESCRIPTION:The Good Death Book Tour with Suzanne B. O’Brien\, RN\nIn Person\nHosted by: Doulagivers of Idaho & Pacific Northwest \nOctober 18th 11:00am – 1:00pm MST  \nSuzanne B. O’Brien\, RN will be discussing her latest book and sharing insights on embracing the concept of a good death. \nCompassionate Caregiving: Honoring Humanity Through End-of-Life Planning with Bestselling Author Suzanne B. O’Brien\, RN \nSponsored by Barnes and Noble of Boise \nSuzanne B. O’Brien\, RN will be here LIVE! \nRegister for this in person event Here!  Space is limited. \nWhen: Saturday\, October 18th at 11:00 AM – 1:00PM \nWho is this session for? \nEveryone – because death touches us all at some point in our lives. \nWhy are we offering this session? End-of-life can be a difficult and often avoided topic. But there are practical tools that you can put in place to help prepare for and navigate the end of life. And by doing so\, you will be empowered and inspired to live life more fully. \nWhat to expect: You will learn the importance of the 3 Phases of End of Life and what interventions can be used in each phase to ensure the highest quality of life for your loved ones. Our expert trainer will share what choices are needed before the last phase of life\, and new progressive options for life celebrations. End-of-life can be the natural\, sacred experience it was meant to be with the right education\, resources\, and support. \nSuzanne is the Founder & CEO of Doulagivers Institute. Her life’s mission is to increase the availability and access to high quality end of life education and care for patients and families throughout the world. Suzanne has developed incredible training programs and resources to enhance end of life care for all people based on her decades of experience working at the bedside of over 1\,000 end of life patients as a hospice nurse and palliative care professional. Suzanne is also the author of THE GOOD DEATH (March 2025) from Little Brown Spark. \nDon’t miss this opportunity to engage with the author and fellow book enthusiasts. Mark your calendars and be part of this enlightening experience!
URL:https://truenorthawakening.com/event/the-good-death-book-signing-in-person-event-2/
LOCATION:Barnes & Noble of Boise\, 1315 N Milwaukee St\, Boise\, ID\, 83704\, United States
CATEGORIES:Class,Event
ATTACH;FMTTYPE=image/png:https://truenorthawakening.com/wp-content/uploads/2025/09/Good-Death-Book-Signing.png
ORGANIZER;CN="Doulagivers of Idaho and Pacific Northwest":MAILTO:Doulagiversofidahopnw@gmail.com
END:VEVENT
END:VCALENDAR